BEGIN:VCALENDAR
VERSION:2.0
PRODID:-//wp-events-plugin.com//7.2.3.1//EN
TZID:America/New_York
X-WR-TIMEZONE:America/New_York
BEGIN:VEVENT
UID:2717@cubalibrary.org
DTSTART;TZID=America/New_York:20250515T130000
DTEND;TZID=America/New_York:20250515T144500
DTSTAMP:20250409T183831Z
URL:https://cubalibrary.org/events/spring-tea-2/
SUMMARY:Spring Tea
DESCRIPTION:The Spring Tea sponsored by Friends of the Cuba Library\, Inc. 
 is just around the corner. Space is limited\, reserve your seat today! Joi
 n the Friends for small flower arrangements\, afternoon tea\, and a sing-a
 -long. Wear a fancy hat\, bring your teacup to drink\, and bring an extra 
 for your flower arrangement\, if you want to. Thursday\, May 15 at 1 pm at
  Cuba Library. There is a $5 fee at the door. If possible\, bring your own
  scissors\, supplies are limited. RSVP by May 10 by calling (585) 968-1668
 \, or stop by the desk at the library.
ATTACH;FMTTYPE=image/jpeg:https://cubalibrary.org/wp-content/uploads/2025/
 04/Spring-Tea-2025.png
CATEGORIES:Friends of the Library
LOCATION:Cuba Circulating Library\, 39 East Main Street\, Cuba\, NY\, 14727
 \, United States
X-APPLE-STRUCTURED-LOCATION;VALUE=URI;X-ADDRESS=39 East Main Street\, Cuba\
 , NY\, 14727\, United States;X-APPLE-RADIUS=100;X-TITLE=Cuba Circulating L
 ibrary:geo:0,0
END:VEVENT
BEGIN:VTIMEZONE
TZID:America/New_York
X-LIC-LOCATION:America/New_York
BEGIN:DAYLIGHT
DTSTART:20250309T030000
TZOFFSETFROM:-0500
TZOFFSETTO:-0400
TZNAME:EDT
END:DAYLIGHT
END:VTIMEZONE
END:VCALENDAR