BEGIN:VCALENDAR
VERSION:2.0
PRODID:-//wp-events-plugin.com//7.2.3.1//EN
TZID:America/New_York
X-WR-TIMEZONE:America/New_York
BEGIN:VEVENT
UID:2761@cubalibrary.org
DTSTART;TZID=America/New_York:20250721T150000
DTEND;TZID=America/New_York:20250721T160000
DTSTAMP:20250623T171340Z
URL:https://cubalibrary.org/events/stained-glass-teens-tweens/
SUMMARY:Stained Glass Pictures - Teens & Tweens
DESCRIPTION:Teens &amp\; Tweens ages 9 – 18 are invited to join us for a 
 chill afternoon to create simple mock stained glass pictures. Attendees wi
 ll need to provide their own picture frame\, and should come with a design
  they would like to create. We will make pictures with the look of stained
  glass using markers and tinfoil. This program is free\, but space is limi
 ted and registration is required. Please contact Cuba Library at (585)968-
 1668 or email cuba@stls.org to sign up.
ATTACH;FMTTYPE=image/jpeg:https://cubalibrary.org/wp-content/uploads/2025/
 06/Stained-Glass-Pictures-Teens-Instagram-Post.png
CATEGORIES:Teen Programs
LOCATION:Cuba Circulating Library\, 39 East Main Street\, Cuba\, NY\, 14727
 \, United States
X-APPLE-STRUCTURED-LOCATION;VALUE=URI;X-ADDRESS=39 East Main Street\, Cuba\
 , NY\, 14727\, United States;X-APPLE-RADIUS=100;X-TITLE=Cuba Circulating L
 ibrary:geo:0,0
END:VEVENT
BEGIN:VTIMEZONE
TZID:America/New_York
X-LIC-LOCATION:America/New_York
BEGIN:DAYLIGHT
DTSTART:20250309T030000
TZOFFSETFROM:-0500
TZOFFSETTO:-0400
TZNAME:EDT
END:DAYLIGHT
END:VTIMEZONE
END:VCALENDAR