BEGIN:VCALENDAR
VERSION:2.0
PRODID:-//wp-events-plugin.com//7.2.3.1//EN
TZID:America/New_York
X-WR-TIMEZONE:America/New_York
BEGIN:VEVENT
UID:2736@cubalibrary.org
DTSTART;TZID=America/New_York:20250612T183000
DTEND;TZID=America/New_York:20250612T203000
DTSTAMP:20250522T161454Z
URL:https://cubalibrary.org/events/stop-the-bleed-hands-only-cpr-4/
SUMMARY:Stop the Bleed & Hands only CPR
DESCRIPTION:Join us Thursday\, June 12\, Thursday\, June 19 OR Monday\, Jun
 e 30 at 6:30 pm at the Cuba Library for a class in STOP the BLEED & Hands 
 Only CPR. This class is open to those ages 6 & up\, but those under the ag
 e of 12 must be accompanied by an adult. Through our STOP THE BLEED® cour
 se\, you’ll gain the ability to recognize life-threatening bleeding and 
 intervene effectively. The person next to a bleeding victim may be the one
  who’s most likely to save him or her. Take the course and become empowe
 red to make a life or death difference when a bleeding emergency occurs. S
 TOP THE BLEED®. Save a Life! There will also be brief instruction in deal
 ing with other injuries and what do do if someone is choking. Learn how to
  deliver lifesaving CPR care without rescue breaths and be prepared. When 
 you immediately provide Hands-Only CPR\, you can increase the chance of su
 rvival.\n\nSpace is limited and registration is required for the class. Pl
 ease contact the Cuba Library at (585)968-1668\, email cuba@stls.org or co
 ntact us on Facebook to sign up.\n\nThis course is taught by Linda Botens.
ATTACH;FMTTYPE=image/jpeg:https://cubalibrary.org/wp-content/uploads/2025/
 05/2025-Stop-the-Bleed-Hands-Only-CPR.png
CATEGORIES:Lecturer/Presenter
LOCATION:Cuba Circulating Library\, 39 East Main Street\, Cuba\, NY\, 14727
 \, United States
X-APPLE-STRUCTURED-LOCATION;VALUE=URI;X-ADDRESS=39 East Main Street\, Cuba\
 , NY\, 14727\, United States;X-APPLE-RADIUS=100;X-TITLE=Cuba Circulating L
 ibrary:geo:0,0
END:VEVENT
BEGIN:VTIMEZONE
TZID:America/New_York
X-LIC-LOCATION:America/New_York
BEGIN:DAYLIGHT
DTSTART:20250309T030000
TZOFFSETFROM:-0500
TZOFFSETTO:-0400
TZNAME:EDT
END:DAYLIGHT
END:VTIMEZONE
END:VCALENDAR