BEGIN:VCALENDAR
VERSION:2.0
PRODID:-//wp-events-plugin.com//7.2.3.1//EN
TZID:America/New_York
X-WR-TIMEZONE:America/New_York
BEGIN:VEVENT
UID:2773@cubalibrary.org
DTSTART;TZID=America/New_York:20250814T183000
DTEND;TZID=America/New_York:20250814T203000
DTSTAMP:20250730T150659Z
URL:https://cubalibrary.org/events/stop-the-bleed-injuries-choking-and-han
 ds-only-cpr/
SUMMARY:Stop the Bleed\, Injuries & Choking\, and Hands Only CPR
DESCRIPTION:Join us Thursday\, August 14 at 6:30 pm at the Cuba Library for
  a class in STOP the BLEED & Hands Only CPR. This class is open to those a
 ges 6 & up\, but those under the age of 12 must be accompanied by an adult
 . Through our STOP THE BLEED® course\, you’ll gain the ability to recog
 nize life-threatening bleeding and intervene effectively. The person next 
 to a bleeding victim may be the one who’s most likely to save him or her
 . Take the course and become empowered to make a life or death difference 
 when a bleeding emergency occurs. STOP THE BLEED®. Save a Life! There wil
 l also be brief instruction in dealing with other injuries and what do do 
 if someone is choking. Learn how to deliver lifesaving CPR care without re
 scue breaths and be prepared. When you immediately provide Hands-Only CPR\
 , you can increase the chance of survival.\n\nSpace is limited and registr
 ation is required for the class. Please contact the Cuba Library at (585)9
 68-1668\, email cuba@stls.org or contact us on Facebook to sign up.\n\nThi
 s course is taught by Linda Botens.
ATTACH;FMTTYPE=image/jpeg:https://cubalibrary.org/wp-content/uploads/2025/
 07/2025-Stop-the-Bleed-Hands-Only-CPR.png
CATEGORIES:Adult Programs
LOCATION:Cuba Circulating Library\, 39 East Main Street\, Cuba\, NY\, 14727
 \, United States
X-APPLE-STRUCTURED-LOCATION;VALUE=URI;X-ADDRESS=39 East Main Street\, Cuba\
 , NY\, 14727\, United States;X-APPLE-RADIUS=100;X-TITLE=Cuba Circulating L
 ibrary:geo:0,0
END:VEVENT
BEGIN:VTIMEZONE
TZID:America/New_York
X-LIC-LOCATION:America/New_York
BEGIN:DAYLIGHT
DTSTART:20250309T030000
TZOFFSETFROM:-0500
TZOFFSETTO:-0400
TZNAME:EDT
END:DAYLIGHT
END:VTIMEZONE
END:VCALENDAR