BEGIN:VCALENDAR
VERSION:2.0
PRODID:-//wp-events-plugin.com//7.2.3.1//EN
TZID:America/New_York
X-WR-TIMEZONE:America/New_York
BEGIN:VEVENT
UID:2799@cubalibrary.org
DTSTART;TZID=America/New_York:20250930T180000
DTEND;TZID=America/New_York:20250930T190000
DTSTAMP:20250915T154502Z
URL:https://cubalibrary.org/events/suicide-prevention-va-program/
SUMMARY:Suicide Prevention : VA Program
DESCRIPTION:Join us on Tuesday\, September 30 at 6 pm at the Cuba Library f
 or a presentation by Lyndsey Stillman\, LCSW. \nJoin us to learn how to SA
 VE a life:\n· Veteran suicide data overview\n· Signs of a mental health 
 crisis\n· How to use the SAVE model to respond to someone in crisis\n· H
 elpful resources \n\nThis program is free and open to everyone\, but regis
 tration is encouraged – please call or text 607-794-3061.\n\nBrought to 
 you by the VA Finger Lakes Healthcare System
ATTACH;FMTTYPE=image/jpeg:https://cubalibrary.org/wp-content/uploads/2025/
 08/VA-SAVE-Suicide-Prevention-Instagram-Post.png
CATEGORIES:Adult Programs,Lecturer/Presenter
LOCATION:Cuba Circulating Library\, 39 East Main Street\, Cuba\, NY\, 14727
 \, United States
X-APPLE-STRUCTURED-LOCATION;VALUE=URI;X-ADDRESS=39 East Main Street\, Cuba\
 , NY\, 14727\, United States;X-APPLE-RADIUS=100;X-TITLE=Cuba Circulating L
 ibrary:geo:0,0
END:VEVENT
BEGIN:VTIMEZONE
TZID:America/New_York
X-LIC-LOCATION:America/New_York
BEGIN:DAYLIGHT
DTSTART:20250309T030000
TZOFFSETFROM:-0500
TZOFFSETTO:-0400
TZNAME:EDT
END:DAYLIGHT
END:VTIMEZONE
END:VCALENDAR