BEGIN:VCALENDAR
VERSION:2.0
PRODID:-//wp-events-plugin.com//7.2.3.1//EN
TZID:America/New_York
X-WR-TIMEZONE:America/New_York
BEGIN:VEVENT
UID:3654@cubalibrary.org
DTSTART;TZID=America/New_York:20260303T183000
DTEND;TZID=America/New_York:20260303T193000
DTSTAMP:20260127T203901Z
URL:https://cubalibrary.org/events/the-bakers-basement/
SUMMARY:The Baker's Basement
DESCRIPTION:What happens when a homemade bucket drum meets Cleveland soul? 
 Join us at the Cuba Library on Tuesday\, March 3 at 6:30 pm for an intimat
 e concert with two-piece\, Cleveland-based\, indie-folk band the Baker’s
  Basement (tBB)\, featuring the eclectic musical stylings of vocalist/drum
 mer Kate Dedinsky and vocalist/guitarist Adam Grindler. At their rhythmic 
 core pulses an orange-striped\, homemade\, bucket-drum concoction\, the fu
 nky back beat on which Dedinsky performs\, standing up with her signature 
 swagger and sway. The duo’s intimate sound\, rooted in a spirited flavor
  of folk music and topped with playful vocal layers\, often volleyed to-an
 d-fro across the stage\, offers a humorous yet heart-wrenching sonic signa
 ture that’s altogether their own.
ATTACH;FMTTYPE=image/jpeg:https://cubalibrary.org/wp-content/uploads/2026/
 01/The-Bakers-Basement-Instagram-Post.png
CATEGORIES:Band/Music Performer
LOCATION:Cuba Circulating Library\, 39 East Main Street\, Cuba\, NY\, 14727
 \, United States
X-APPLE-STRUCTURED-LOCATION;VALUE=URI;X-ADDRESS=39 East Main Street\, Cuba\
 , NY\, 14727\, United States;X-APPLE-RADIUS=100;X-TITLE=Cuba Circulating L
 ibrary:geo:0,0
END:VEVENT
BEGIN:VTIMEZONE
TZID:America/New_York
X-LIC-LOCATION:America/New_York
BEGIN:STANDARD
DTSTART:20251102T010000
TZOFFSETFROM:-0400
TZOFFSETTO:-0500
TZNAME:EST
END:STANDARD
END:VTIMEZONE
END:VCALENDAR