BEGIN:VCALENDAR
VERSION:2.0
PRODID:-//wp-events-plugin.com//7.2.3.1//EN
TZID:America/New_York
X-WR-TIMEZONE:America/New_York
BEGIN:VEVENT
UID:2735@cubalibrary.org
DTSTART;TZID=America/New_York:20250610T183000
DTEND;TZID=America/New_York:20250610T193000
DTSTAMP:20250520T162934Z
URL:https://cubalibrary.org/events/the-rich-tapestry-of-family-history-loc
 al-history-program/
SUMMARY:The Rich Tapestry of Family History - Local History Program
DESCRIPTION:Historian and author Suzanne Simon Dietz will present an authen
 tic local story\, The In-Law Diaries 1867 – 1868 Sawyer & Frary\, Hubbar
 dston\, MA\, to Rawson\, NY. Discover history from the West Almond Cheese 
 Factory to the Higgins Tavern on County Road 20\, a dairy farm in Friendsh
 ip\, rural agriculture in the Town of Lyndon after the Civil War\, and the
  connection to the early chair making center of Hubbardston\, Massachusett
 s. Come to the presentation at the Cuba Library on Tuesday\, June 10 at 6:
 30 pm and step back into the time portal of the Friendship Strahan’s fam
 ily role over a century and connections that reached across the Atlantic f
 or the intercontinental phone service! This program is free and open to th
 e public\, no registration required.\n\nPlease contact Cuba Library at (58
 5)968-1668 or email cuba@stls.org with any questions.\n\nDietz served as h
 istorian for the Town of Porter\, home to Old Fort Niagara and the Buffalo
  Aero Club\, and published more than twenty historical works. Her publicat
 ion My True Course\, the official biography for the navigator of the Enola
  Gay that dropped the atomic bomb on Hiroshima\, won the 2013 silver medal
  from the National Military Writer’s Society.
ATTACH;FMTTYPE=image/jpeg:https://cubalibrary.org/wp-content/uploads/2025/
 05/Tapestry-of-Family-History-Instagram.png
CATEGORIES:Lecturer/Presenter
LOCATION:Cuba Circulating Library\, 39 East Main Street\, Cuba\, NY\, 14727
 \, United States
X-APPLE-STRUCTURED-LOCATION;VALUE=URI;X-ADDRESS=39 East Main Street\, Cuba\
 , NY\, 14727\, United States;X-APPLE-RADIUS=100;X-TITLE=Cuba Circulating L
 ibrary:geo:0,0
END:VEVENT
BEGIN:VTIMEZONE
TZID:America/New_York
X-LIC-LOCATION:America/New_York
BEGIN:DAYLIGHT
DTSTART:20250309T030000
TZOFFSETFROM:-0500
TZOFFSETTO:-0400
TZNAME:EDT
END:DAYLIGHT
END:VTIMEZONE
END:VCALENDAR