BEGIN:VCALENDAR
VERSION:2.0
PRODID:-//wp-events-plugin.com//7.2.3.1//EN
TZID:America/New_York
X-WR-TIMEZONE:America/New_York
BEGIN:VEVENT
UID:2759@cubalibrary.org
DTSTART;TZID=America/New_York:20250719T103000
DTEND;TZID=America/New_York:20250719T120000
DTSTAMP:20250617T165035Z
URL:https://cubalibrary.org/events/tm4k-currency-conga-game-day/
SUMMARY:TM4K Currency Conga Game Day
DESCRIPTION:Join Miss Cherilyn for a Family Financial Literacy Game. At the
  flick of a spinner\, participants in family teams will vie for space on a
  vinyl mat as they attempt to touch the correct coins and bills — and im
 prove their currency recognition and money math skills in the process. Thi
 s game is geared toward children ages 5-12 but since each family will be a
  team\, all ages are welcome. Please contact Cuba Library at (585)968-1668
  or email cuba@stls.org to sign up. The materials for this program were pr
 ovided by a grant from ALA and FINRA. 
ATTACH;FMTTYPE=image/jpeg:https://cubalibrary.org/wp-content/uploads/2025/
 06/Currency-Conga-TM4K-Instagram-Post.png
CATEGORIES:Children's Programs
LOCATION:Cuba Circulating Library\, 39 East Main Street\, Cuba\, NY\, 14727
 \, United States
X-APPLE-STRUCTURED-LOCATION;VALUE=URI;X-ADDRESS=39 East Main Street\, Cuba\
 , NY\, 14727\, United States;X-APPLE-RADIUS=100;X-TITLE=Cuba Circulating L
 ibrary:geo:0,0
END:VEVENT
BEGIN:VTIMEZONE
TZID:America/New_York
X-LIC-LOCATION:America/New_York
BEGIN:DAYLIGHT
DTSTART:20250309T030000
TZOFFSETFROM:-0500
TZOFFSETTO:-0400
TZNAME:EDT
END:DAYLIGHT
END:VTIMEZONE
END:VCALENDAR