BEGIN:VCALENDAR
VERSION:2.0
PRODID:-//wp-events-plugin.com//7.2.3.1//EN
TZID:America/New_York
X-WR-TIMEZONE:America/New_York
BEGIN:VEVENT
UID:2775@cubalibrary.org
DTSTART;TZID=America/New_York:20250823T133000
DTEND;TZID=America/New_York:20250823T143000
DTSTAMP:20250730T172203Z
URL:https://cubalibrary.org/events/tm4k-making-mooo-lah/
SUMMARY:TM4K Making Mooo-lah
DESCRIPTION:Join Miss Cherilyn on Saturday\, August 23 at 1:30 pm at the Cu
 ba Library for a Family Financial Literacy Game. In this collaborative sim
 ulation\, players work together to see if they can run a financially succe
 ssful farm. Take turns rolling the die and moving through a life-size game
  board. Depending on where they land\, players might buy something for the
  farm\, sell their crops at the farmers’ market\, pay taxes\, or face an
  unexpected event. Starting with $200 in their bank account\, can the team
  turn a profit in 12 months? This game is geared toward children ages 5-12
  but since each family will be a team\, all ages are welcome. Please cont
 act Cuba Library at (585)968-1668 or email cuba@stls.org to sign up. The m
 aterials for this program were provided by a grant from ALA and FINRA. 
ATTACH;FMTTYPE=image/jpeg:https://cubalibrary.org/wp-content/uploads/2025/
 07/Making-Mooo-lah-TM4K-Instagram-Post.png
CATEGORIES:Children's Programs
LOCATION:Cuba Circulating Library\, 39 East Main Street\, Cuba\, NY\, 14727
 \, United States
X-APPLE-STRUCTURED-LOCATION;VALUE=URI;X-ADDRESS=39 East Main Street\, Cuba\
 , NY\, 14727\, United States;X-APPLE-RADIUS=100;X-TITLE=Cuba Circulating L
 ibrary:geo:0,0
END:VEVENT
BEGIN:VTIMEZONE
TZID:America/New_York
X-LIC-LOCATION:America/New_York
BEGIN:DAYLIGHT
DTSTART:20250309T030000
TZOFFSETFROM:-0500
TZOFFSETTO:-0400
TZNAME:EDT
END:DAYLIGHT
END:VTIMEZONE
END:VCALENDAR