BEGIN:VCALENDAR
VERSION:2.0
PRODID:-//wp-events-plugin.com//7.2.3.1//EN
TZID:America/New_York
X-WR-TIMEZONE:America/New_York
BEGIN:VEVENT
UID:2541@cubalibrary.org
DTSTART;TZID=America/New_York:20250208T190000
DTEND;TZID=America/New_York:20250208T203000
DTSTAMP:20250121T195042Z
URL:https://cubalibrary.org/events/town-of-short-tract-theater-play/
SUMMARY:Town Theater of Short Tract Play
DESCRIPTION:Join us for the February 8 performance of this one man play\, t
 aking place in the Cuba Library community room. This particular performanc
 e is free admission\, sponsored by the Cuba Library. Visit www.towntheatre
 ofshorttract.org for details and tickets for any other performance date.\n
 \nUnderneath the Lintel is a fascinating one-man play about a quirky libra
 rian\, a 113-year-overdue book\, and an unexpected journey across the glob
 e. It’s funny\, heartwarming\, and full of mystery!\nStarring Ben Lipsco
 mb\, this 90-minute performance is being held at seven locations across ou
 r region in January and February 2025. \nJan 10: Angelica Free Library\nJa
 n 11: Nancy Howe Auditorium (Wellsville)\nJan 24: Almond 20th Century Club
  Library\nJan 25: Houghton University\nFeb 7: Geneseo Riviera\nFeb 8: Cuba
  Circulating Library\nFeb 14: Short Tract Fire Hall (with dinner at 6:00 P
 M)\n Shows start at 7:00 PM (except for the Feb 14 dinner show).\n Details
  & tickets: www.towntheatreofshorttract.org \nPlease spread the word and m
 ake plans to join us for an evening of theatre!
ATTACH;FMTTYPE=image/jpeg:https://cubalibrary.org/wp-content/uploads/2025/
 01/underneath-the-lintel.png
CATEGORIES:Outside Groups
LOCATION:Cuba Circulating Library\, 39 East Main Street\, Cuba\, NY\, 14727
 \, United States
X-APPLE-STRUCTURED-LOCATION;VALUE=URI;X-ADDRESS=39 East Main Street\, Cuba\
 , NY\, 14727\, United States;X-APPLE-RADIUS=100;X-TITLE=Cuba Circulating L
 ibrary:geo:0,0
END:VEVENT
BEGIN:VTIMEZONE
TZID:America/New_York
X-LIC-LOCATION:America/New_York
BEGIN:STANDARD
DTSTART:20241103T010000
TZOFFSETFROM:-0400
TZOFFSETTO:-0500
TZNAME:EST
END:STANDARD
END:VTIMEZONE
END:VCALENDAR