BEGIN:VCALENDAR
VERSION:2.0
PRODID:-//wp-events-plugin.com//7.2.3.1//EN
TZID:America/New_York
X-WR-TIMEZONE:America/New_York
BEGIN:VEVENT
UID:2764@cubalibrary.org
DTSTART;TZID=America/New_York:20250804T150000
DTEND;TZID=America/New_York:20250804T160000
DTSTAMP:20250618T185848Z
URL:https://cubalibrary.org/events/zen-the-art-of-snacking/
SUMMARY:Zen & the Art of Snacking
DESCRIPTION:Teens ages 13 - 18. Join us for Zen &amp\; the Art of Snacking.
  Try some Japanese snacks\, hang out\, &amp\; play Sushi Go. This program 
 is free but registration is required. Please contact Cuba Library at (585)
 968-1668 or email cuba@stls.org to sign up.
ATTACH;FMTTYPE=image/jpeg:https://cubalibrary.org/wp-content/uploads/2025/
 06/Zen-the-Art-of-Snacking-instagram-square.png
CATEGORIES:Teen Programs
LOCATION:Cuba Circulating Library\, 39 East Main Street\, Cuba\, NY\, 14727
 \, United States
X-APPLE-STRUCTURED-LOCATION;VALUE=URI;X-ADDRESS=39 East Main Street\, Cuba\
 , NY\, 14727\, United States;X-APPLE-RADIUS=100;X-TITLE=Cuba Circulating L
 ibrary:geo:0,0
END:VEVENT
BEGIN:VTIMEZONE
TZID:America/New_York
X-LIC-LOCATION:America/New_York
BEGIN:DAYLIGHT
DTSTART:20250309T030000
TZOFFSETFROM:-0500
TZOFFSETTO:-0400
TZNAME:EDT
END:DAYLIGHT
END:VTIMEZONE
END:VCALENDAR